BEGIN:VCALENDAR
VERSION:2.0
PRODID:-//Tukios.com/
BEGIN:VEVENT
UID:af516a0b-7d34-4976-82a9-cae60b3b2a10@www.synowieckifh.com
DTSTAMP:20260424T193457Z
DTSTART:20260428T123000Z
DTEND:20260428T133000Z
SUMMARY:Visitation
DESCRIPTION:
URL:https://www.synowieckifh.com/obituaries/dorothy-lamp
LOCATION: 56 Carteret Avenue  Carteret NJ 07008
GEO:40.5750843;-74.2234675
END:VEVENT
END:VCALENDAR