BEGIN:VCALENDAR
VERSION:2.0
PRODID:-//Tukios.com/
BEGIN:VEVENT
UID:d7ce2f6a-a4f9-44a5-af1a-9716f4d11a7e@www.synowieckifh.com
DTSTAMP:20260424T194228Z
DTSTART:20260428T140000Z
DTEND:20260428T150000Z
SUMMARY:Mass
DESCRIPTION:
URL:https://www.synowieckifh.com/obituaries/dorothy-lamp
LOCATION:St. Joseph Church 7 Locust Street  Carteret NJ 07008
GEO:40.574449;-74.2213264
END:VEVENT
END:VCALENDAR